BEGIN:VCALENDAR
VERSION:2.0
PRODID:-//MeetToMatch - ECPv6.15.20//NONSGML v1.0//EN
CALSCALE:GREGORIAN
METHOD:PUBLISH
X-ORIGINAL-URL:https://www.meettomatch.com
X-WR-CALDESC:Events for MeetToMatch
REFRESH-INTERVAL;VALUE=DURATION:PT1H
X-Robots-Tag:noindex
X-PUBLISHED-TTL:PT1H
BEGIN:VTIMEZONE
TZID:Europe/Paris
BEGIN:DAYLIGHT
TZOFFSETFROM:+0100
TZOFFSETTO:+0200
TZNAME:CEST
DTSTART:20250330T010000
END:DAYLIGHT
BEGIN:STANDARD
TZOFFSETFROM:+0200
TZOFFSETTO:+0100
TZNAME:CET
DTSTART:20251026T010000
END:STANDARD
BEGIN:DAYLIGHT
TZOFFSETFROM:+0100
TZOFFSETTO:+0200
TZNAME:CEST
DTSTART:20260329T010000
END:DAYLIGHT
BEGIN:STANDARD
TZOFFSETFROM:+0200
TZOFFSETTO:+0100
TZNAME:CET
DTSTART:20261025T010000
END:STANDARD
BEGIN:DAYLIGHT
TZOFFSETFROM:+0100
TZOFFSETTO:+0200
TZNAME:CEST
DTSTART:20270328T010000
END:DAYLIGHT
BEGIN:STANDARD
TZOFFSETFROM:+0200
TZOFFSETTO:+0100
TZNAME:CET
DTSTART:20271031T010000
END:STANDARD
END:VTIMEZONE
BEGIN:VTIMEZONE
TZID:UTC
BEGIN:STANDARD
TZOFFSETFROM:+0000
TZOFFSETTO:+0000
TZNAME:UTC
DTSTART:20250101T000000
END:STANDARD
END:VTIMEZONE
BEGIN:VEVENT
DTSTART;VALUE=DATE:20260917
DTEND;VALUE=DATE:20260921
DTSTAMP:20260426T033515
CREATED:20260401T093317Z
LAST-MODIFIED:20260401T093317Z
UID:34911-1789603200-1789948799@www.meettomatch.com
SUMMARY:MeetToMatch - The Tokyo Edition 2026
DESCRIPTION:
URL:https://www.meettomatch.com/event/meettomatch-the-tokyo-edition-2026/
LOCATION:Tokyo\, Tokyo\, Japan
CATEGORIES:Business,Games Industry,Hybrid,MeetToMatch Event
ATTACH;FMTTYPE=image/png:https://www.meettomatch.com/website/wp-content/uploads/2026/04/Tokyo-square-logo-500x500-1.png
END:VEVENT
BEGIN:VEVENT
DTSTART;VALUE=DATE:20260924
DTEND;VALUE=DATE:20260926
DTSTAMP:20260426T033515
CREATED:20260331T195016Z
LAST-MODIFIED:20260331T195016Z
UID:34346-1790208000-1790380799@www.meettomatch.com
SUMMARY:NEXUS Games Conference
DESCRIPTION:
URL:https://www.meettomatch.com/event/nexus-games-conference-2/
LOCATION:Dublin\, Ireland
CATEGORIES:Business,Games Industry,On site
ATTACH;FMTTYPE=image/png:https://www.meettomatch.com/website/wp-content/uploads/2025/05/Nexus-500x500-1.png
END:VEVENT
BEGIN:VEVENT
DTSTART;VALUE=DATE:20260929
DTEND;VALUE=DATE:20261001
DTSTAMP:20260426T033515
CREATED:20260415T095837Z
LAST-MODIFIED:20260415T095938Z
UID:34976-1790640000-1790812799@www.meettomatch.com
SUMMARY:DevGAMM X FTW! Belgrade 2026
DESCRIPTION:
URL:https://www.meettomatch.com/event/devgamm-x-ftw-belgrade-2026/
LOCATION:Belgrade\, Serbia\, Belgrade\, Serbia
CATEGORIES:Business,Games Industry,On site
ATTACH;FMTTYPE=image/png:https://www.meettomatch.com/website/wp-content/uploads/2026/02/DevGamm-500x500-2026.png
END:VEVENT
BEGIN:VEVENT
DTSTART;VALUE=DATE:20260930
DTEND;VALUE=DATE:20261002
DTSTAMP:20260426T033515
CREATED:20260401T092359Z
LAST-MODIFIED:20260401T092359Z
UID:34343-1790726400-1790899199@www.meettomatch.com
SUMMARY:IndieGameBusiness Sessions September 2025
DESCRIPTION:
URL:https://www.meettomatch.com/event/indiegamebusiness-sessions-september-2025-2/
LOCATION:Online
CATEGORIES:Business,Games Industry,Online
ATTACH;FMTTYPE=image/png:https://www.meettomatch.com/website/wp-content/uploads/2024/11/IGBS-Feb-2025.png
END:VEVENT
END:VCALENDAR