BEGIN:VCALENDAR
VERSION:2.0
PRODID:-//MeetToMatch - ECPv6.15.20//NONSGML v1.0//EN
CALSCALE:GREGORIAN
METHOD:PUBLISH
X-ORIGINAL-URL:https://www.meettomatch.com
X-WR-CALDESC:Events for MeetToMatch
REFRESH-INTERVAL;VALUE=DURATION:PT1H
X-Robots-Tag:noindex
X-PUBLISHED-TTL:PT1H
BEGIN:VTIMEZONE
TZID:Europe/Paris
BEGIN:DAYLIGHT
TZOFFSETFROM:+0100
TZOFFSETTO:+0200
TZNAME:CEST
DTSTART:20250330T010000
END:DAYLIGHT
BEGIN:STANDARD
TZOFFSETFROM:+0200
TZOFFSETTO:+0100
TZNAME:CET
DTSTART:20251026T010000
END:STANDARD
BEGIN:DAYLIGHT
TZOFFSETFROM:+0100
TZOFFSETTO:+0200
TZNAME:CEST
DTSTART:20260329T010000
END:DAYLIGHT
BEGIN:STANDARD
TZOFFSETFROM:+0200
TZOFFSETTO:+0100
TZNAME:CET
DTSTART:20261025T010000
END:STANDARD
BEGIN:DAYLIGHT
TZOFFSETFROM:+0100
TZOFFSETTO:+0200
TZNAME:CEST
DTSTART:20270328T010000
END:DAYLIGHT
BEGIN:STANDARD
TZOFFSETFROM:+0200
TZOFFSETTO:+0100
TZNAME:CET
DTSTART:20271031T010000
END:STANDARD
END:VTIMEZONE
BEGIN:VEVENT
DTSTART;VALUE=DATE:20260203
DTEND;VALUE=DATE:20260206
DTSTAMP:20260425T221203
CREATED:20251125T160706Z
LAST-MODIFIED:20251125T161450Z
UID:34322-1770076800-1770335999@www.meettomatch.com
SUMMARY:GameDev Summit Asia 2026
DESCRIPTION:
URL:https://www.meettomatch.com/event/gamedev-summit-2026/
LOCATION:Philippines
CATEGORIES:Business,Games Industry,On site
ATTACH;FMTTYPE=image/png:https://www.meettomatch.com/website/wp-content/uploads/2024/11/GDS-Logo-website-calendar.png
END:VEVENT
BEGIN:VEVENT
DTSTART;VALUE=DATE:20260210
DTEND;VALUE=DATE:20260213
DTSTAMP:20260425T221203
CREATED:20251117T141136Z
LAST-MODIFIED:20260109T134153Z
UID:34301-1770681600-1770940799@www.meettomatch.com
SUMMARY:MeetToMatch - The Las Vegas Edition 2026\, powered by Vicariously
DESCRIPTION:
URL:https://www.meettomatch.com/event/meettomatch-the-las-vegas-edition-2026-powered-by-vicariously/
LOCATION:aria resort & casino\, Las Vegas\, United States
CATEGORIES:Business,Games Industry,MeetToMatch Event,On site
ATTACH;FMTTYPE=image/png:https://www.meettomatch.com/website/wp-content/uploads/2025/11/LV-resized.png
END:VEVENT
BEGIN:VEVENT
DTSTART;VALUE=DATE:20260218
DTEND;VALUE=DATE:20260220
DTSTAMP:20260425T221203
CREATED:20251125T160920Z
LAST-MODIFIED:20260129T105259Z
UID:34324-1771372800-1771545599@www.meettomatch.com
SUMMARY:IndieGameBusiness Sessions February 2026
DESCRIPTION:
URL:https://www.meettomatch.com/event/indiegamebusiness-sessions-february-2026-2/
LOCATION:Online
CATEGORIES:Business,Games Industry,Online
ATTACH;FMTTYPE=image/png:https://www.meettomatch.com/website/wp-content/uploads/2024/11/IGBS-Feb-2025.png
END:VEVENT
END:VCALENDAR