BEGIN:VCALENDAR
VERSION:2.0
PRODID:-//MeetToMatch - ECPv6.15.20//NONSGML v1.0//EN
CALSCALE:GREGORIAN
METHOD:PUBLISH
X-WR-CALNAME:MeetToMatch
X-ORIGINAL-URL:https://www.meettomatch.com
X-WR-CALDESC:Events for MeetToMatch
REFRESH-INTERVAL;VALUE=DURATION:PT1H
X-Robots-Tag:noindex
X-PUBLISHED-TTL:PT1H
BEGIN:VTIMEZONE
TZID:Europe/Paris
BEGIN:DAYLIGHT
TZOFFSETFROM:+0100
TZOFFSETTO:+0200
TZNAME:CEST
DTSTART:20240331T010000
END:DAYLIGHT
BEGIN:STANDARD
TZOFFSETFROM:+0200
TZOFFSETTO:+0100
TZNAME:CET
DTSTART:20241027T010000
END:STANDARD
BEGIN:DAYLIGHT
TZOFFSETFROM:+0100
TZOFFSETTO:+0200
TZNAME:CEST
DTSTART:20250330T010000
END:DAYLIGHT
BEGIN:STANDARD
TZOFFSETFROM:+0200
TZOFFSETTO:+0100
TZNAME:CET
DTSTART:20251026T010000
END:STANDARD
BEGIN:DAYLIGHT
TZOFFSETFROM:+0100
TZOFFSETTO:+0200
TZNAME:CEST
DTSTART:20260329T010000
END:DAYLIGHT
BEGIN:STANDARD
TZOFFSETFROM:+0200
TZOFFSETTO:+0100
TZNAME:CET
DTSTART:20261025T010000
END:STANDARD
END:VTIMEZONE
BEGIN:VEVENT
DTSTART;VALUE=DATE:20250917
DTEND;VALUE=DATE:20250919
DTSTAMP:20260426T055211
CREATED:20251117T143609Z
LAST-MODIFIED:20251117T143609Z
UID:34304-1758067200-1758239999@www.meettomatch.com
SUMMARY:IndieGameBusiness Sessions September 2025
DESCRIPTION:
URL:https://www.meettomatch.com/event/indiegamebusiness-sessions-september-2025/
LOCATION:Online
CATEGORIES:Business,Games Industry,Online
ATTACH;FMTTYPE=image/png:https://www.meettomatch.com/website/wp-content/uploads/2024/11/IGBS-Feb-2025.png
END:VEVENT
BEGIN:VEVENT
DTSTART;VALUE=DATE:20250925
DTEND;VALUE=DATE:20250929
DTSTAMP:20260426T055211
CREATED:20250904T093850Z
LAST-MODIFIED:20250904T093850Z
UID:34114-1758758400-1759103999@www.meettomatch.com
SUMMARY:San Diego Comic Con Málaga 2025
DESCRIPTION:
URL:https://www.meettomatch.com/event/san-diego-comic-con-malaga-2025/
LOCATION:Málaga\, Málaga\, Spain
CATEGORIES:Business,On site
ATTACH;FMTTYPE=image/png:https://www.meettomatch.com/website/wp-content/uploads/2025/09/SDCC-calendar.png
END:VEVENT
BEGIN:VEVENT
DTSTART;VALUE=DATE:20250928
DTEND;VALUE=DATE:20251006
DTSTAMP:20260426T055211
CREATED:20250711T144405Z
LAST-MODIFIED:20250711T144405Z
UID:34045-1759017600-1759708799@www.meettomatch.com
SUMMARY:Africacomicade Gamathon 2025
DESCRIPTION:
URL:https://www.meettomatch.com/event/africacomicade-gamathon-2025/
LOCATION:Lagos\, Nigeria
CATEGORIES:Business,Games Industry
ATTACH;FMTTYPE=image/jpeg:https://www.meettomatch.com/website/wp-content/uploads/2023/08/Africacomicade-2023.jpg
END:VEVENT
END:VCALENDAR